BEGIN:VCALENDAR
VERSION:2.0
PRODID:-//www.rubigen.swiss//NONSGML kigkonsult.se ICALCREATOR_VERSION//
CALSCALE:GREGORIAN
METHOD:PUBLISH
X-WR-TIMEZONE','EUROPE/BERLIN:
BEGIN:VEVENT
UID:20260421T131713CEST-42023jwztG@www.rubigen.swiss
DTSTAMP:20260421T111713Z
DESCRIPTION:Klicken Sie auf den folgenden Link\, um weitere Informationen z
 ur Veranstaltung zu erhalten:\nhttp://www.rubigen.swiss/de/veranstaltungen
 /detail/detail.php?i=150
DTSTART:20260426T063000
DTEND:20260426T153000
LOCATION:Kirche Amsoldingen
SUMMARY:Pfarreiwallfahrt Amsoldingen
END:VEVENT
END:VCALENDAR
