BEGIN:VCALENDAR
VERSION:2.0
PRODID:-//www.rubigen.swiss//NONSGML kigkonsult.se ICALCREATOR_VERSION//
CALSCALE:GREGORIAN
METHOD:PUBLISH
X-WR-TIMEZONE','EUROPE/BERLIN:
BEGIN:VEVENT
UID:20260421T162643CEST-3506EKEI49@www.rubigen.swiss
DTSTAMP:20260421T142643Z
DESCRIPTION:Klicken Sie auf den folgenden Link\, um weitere Informationen z
 ur Veranstaltung zu erhalten:\nhttp://www.rubigen.swiss/de/veranstaltungen
 /detail/detail.php?i=157
DTSTART:20260828T193000
DTEND:20260828T213000
LOCATION:Saal Humanushaus
SUMMARY:Francine Jordi - Alles wird gut
END:VEVENT
END:VCALENDAR
