BEGIN:VCALENDAR
VERSION:2.0
PRODID:-//www.rubigen.swiss//NONSGML kigkonsult.se ICALCREATOR_VERSION//
CALSCALE:GREGORIAN
METHOD:PUBLISH
X-WR-TIMEZONE','EUROPE/BERLIN:
BEGIN:VEVENT
UID:20260421T145729CEST-2212hpEc7I@www.rubigen.swiss
DTSTAMP:20260421T125729Z
DESCRIPTION:Klicken Sie auf den folgenden Link\, um weitere Informationen z
 ur Veranstaltung zu erhalten:\nhttp://www.rubigen.swiss/de/veranstaltungen
 /detail/detail.php?i=161
DTSTART:20260522T153000
DTEND:20260522T200000
LOCATION:DADA
SUMMARY:Girls Only im DADA
END:VEVENT
END:VCALENDAR
