BEGIN:VCALENDAR
VERSION:2.0
PRODID:-//www.rubigen.swiss//NONSGML kigkonsult.se ICALCREATOR_VERSION//
CALSCALE:GREGORIAN
METHOD:PUBLISH
X-WR-TIMEZONE','EUROPE/BERLIN:
BEGIN:VEVENT
UID:20260421T131719CEST-76296UVvKr@www.rubigen.swiss
DTSTAMP:20260421T111719Z
DESCRIPTION:Klicken Sie auf den folgenden Link\, um weitere Informationen z
 ur Veranstaltung zu erhalten:\nhttp://www.rubigen.swiss/de/veranstaltungen
 /detail/detail.php?i=187
DTSTART:20260508T170000
DTEND:20260508T200000
LOCATION:Bahnhofplatz Rubigen
SUMMARY:Dorfmärit Rubigen - Frühlingsmärit
END:VEVENT
END:VCALENDAR
