BEGIN:VCALENDAR
VERSION:2.0
PRODID:-//www.rubigen.swiss//NONSGML kigkonsult.se ICALCREATOR_VERSION//
CALSCALE:GREGORIAN
METHOD:PUBLISH
X-WR-TIMEZONE','EUROPE/BERLIN:
BEGIN:VEVENT
UID:20260421T162701CEST-4565ERhdKc@www.rubigen.swiss
DTSTAMP:20260421T142701Z
DESCRIPTION:Klicken Sie auf den folgenden Link\, um weitere Informationen z
 ur Veranstaltung zu erhalten:\nhttp://www.rubigen.swiss/de/veranstaltungen
 /detail/detail.php?i=189
DTSTART:20260911T170000
DTEND:20260911T200000
LOCATION:Bahnhofplatz Rubigen
SUMMARY:Dorfmärit Rubigen - Secondhand-Kleider-Märit
END:VEVENT
END:VCALENDAR
