BEGIN:VCALENDAR
VERSION:2.0
PRODID:-//www.rubigen.swiss//NONSGML kigkonsult.se ICALCREATOR_VERSION//
CALSCALE:GREGORIAN
METHOD:PUBLISH
X-WR-TIMEZONE','EUROPE/BERLIN:
BEGIN:VEVENT
UID:20260421T145517CEST-6555eanzVU@www.rubigen.swiss
DTSTAMP:20260421T125517Z
DESCRIPTION:Klicken Sie auf den folgenden Link\, um weitere Informationen z
 ur Veranstaltung zu erhalten:\nhttp://www.rubigen.swiss/de/veranstaltungen
 /detail/detail.php?i=190
DTSTART:20261009T170000
DTEND:20261009T200000
LOCATION:Bahnhofplatz Rubigen
SUMMARY:Dorfmärit Rubigen - Herbstmärit
END:VEVENT
END:VCALENDAR
