BEGIN:VCALENDAR
VERSION:2.0
PRODID:-//www.rubigen.swiss//NONSGML kigkonsult.se ICALCREATOR_VERSION//
CALSCALE:GREGORIAN
METHOD:PUBLISH
X-WR-TIMEZONE','EUROPE/BERLIN:
BEGIN:VEVENT
UID:20260421T131637CEST-2216ZiCWSM@www.rubigen.swiss
DTSTAMP:20260421T111637Z
DESCRIPTION:Klicken Sie auf den folgenden Link\, um weitere Informationen z
 ur Veranstaltung zu erhalten:\nhttp://www.rubigen.swiss/de/veranstaltungen
 /detail/detail.php?i=191
DTSTART:20260430T190000
DTEND:20260430T200000
LOCATION:Bärenmatte 1 Münsingen
SUMMARY:Musizierstunde Klavier Klasse von Tina Sieber Brcic
END:VEVENT
END:VCALENDAR
