BEGIN:VCALENDAR
VERSION:2.0
PRODID:-//www.rubigen.swiss//NONSGML kigkonsult.se ICALCREATOR_VERSION//
CALSCALE:GREGORIAN
METHOD:PUBLISH
X-WR-TIMEZONE','EUROPE/BERLIN:
BEGIN:VEVENT
UID:20260421T145604CEST-2509cv9Wzj@www.rubigen.swiss
DTSTAMP:20260421T125604Z
DESCRIPTION:Klicken Sie auf den folgenden Link\, um weitere Informationen z
 ur Veranstaltung zu erhalten:\nhttp://www.rubigen.swiss/de/veranstaltungen
 /detail/detail.php?i=192
DTSTART:20260604T190000
DTEND:20260604T200000
LOCATION:Dachstock Schlossstrasse 5 Münsingen
SUMMARY:Musizierstunde Geige & Cello Klassen von Nevena Tochev & Thomas Fla
 chaire
END:VEVENT
END:VCALENDAR
