BEGIN:VCALENDAR
VERSION:2.0
PRODID:-//www.rubigen.swiss//NONSGML kigkonsult.se ICALCREATOR_VERSION//
CALSCALE:GREGORIAN
METHOD:PUBLISH
X-WR-TIMEZONE','EUROPE/BERLIN:
BEGIN:VEVENT
UID:20260421T145723CEST-2061NGKdpK@www.rubigen.swiss
DTSTAMP:20260421T125723Z
DESCRIPTION:Klicken Sie auf den folgenden Link\, um weitere Informationen z
 ur Veranstaltung zu erhalten:\nhttp://www.rubigen.swiss/de/veranstaltungen
 /detail/detail.php?i=194
DTSTART:20260605T190000
DTEND:20260605T220000
LOCATION:Ökogärtnerei Maurer Münsingen
SUMMARY:JazzNights
END:VEVENT
END:VCALENDAR
