BEGIN:VCALENDAR
VERSION:2.0
PRODID:-//www.rubigen.swiss//NONSGML kigkonsult.se ICALCREATOR_VERSION//
CALSCALE:GREGORIAN
METHOD:PUBLISH
X-WR-TIMEZONE','EUROPE/BERLIN:
BEGIN:VEVENT
UID:20260421T145723CEST-5203MleKtW@www.rubigen.swiss
DTSTAMP:20260421T125723Z
DESCRIPTION:Klicken Sie auf den folgenden Link\, um weitere Informationen z
 ur Veranstaltung zu erhalten:\nhttp://www.rubigen.swiss/de/veranstaltungen
 /detail/detail.php?i=197
DTSTART:20260612T180000
DTEND:20260612T190000
LOCATION:Museum Schloss Münsingen
SUMMARY:Musizierstunde Akkordeon Klasse von Nermin Tulic
END:VEVENT
END:VCALENDAR
