BEGIN:VCALENDAR
VERSION:2.0
PRODID:-//www.rubigen.swiss//NONSGML kigkonsult.se ICALCREATOR_VERSION//
CALSCALE:GREGORIAN
METHOD:PUBLISH
X-WR-TIMEZONE','EUROPE/BERLIN:
BEGIN:VEVENT
UID:20260419T151857CEST-7922cp3TeP@www.rubigen.swiss
DTSTAMP:20260419T131857Z
DESCRIPTION:Klicken Sie auf den folgenden Link\, um weitere Informationen z
 ur Veranstaltung zu erhalten:\nhttp://www.rubigen.swiss/de/veranstaltungen
 /detail/detail.php?i=208
DTSTART:20260705T000000
DTEND:20260710T000000
LOCATION:Lagerhaus in Saanenmöser
SUMMARY:Kinder Sommer Ferien
END:VEVENT
END:VCALENDAR
