BEGIN:VCALENDAR
VERSION:2.0
PRODID:-//www.rubigen.swiss//NONSGML kigkonsult.se ICALCREATOR_VERSION//
CALSCALE:GREGORIAN
METHOD:PUBLISH
X-WR-TIMEZONE','EUROPE/BERLIN:
BEGIN:VEVENT
UID:20260421T145121CEST-2430feKgLr@www.rubigen.swiss
DTSTAMP:20260421T125121Z
DESCRIPTION:Klicken Sie auf den folgenden Link\, um weitere Informationen z
 ur Veranstaltung zu erhalten:\nhttp://www.rubigen.swiss/de/veranstaltungen
 /detail/detail.php?i=214
DTSTART:20260509T123000
DTEND:20260509T190000
LOCATION:Pumptrack
SUMMARY:Pumptrack Eröffnungsfest Münsingen
END:VEVENT
END:VCALENDAR
