BEGIN:VCALENDAR
VERSION:2.0
PRODID:-//www.rubigen.swiss//NONSGML kigkonsult.se ICALCREATOR_VERSION//
CALSCALE:GREGORIAN
METHOD:PUBLISH
X-WR-TIMEZONE','EUROPE/BERLIN:
BEGIN:VEVENT
UID:20260421T145147CEST-9047horMaH@www.rubigen.swiss
DTSTAMP:20260421T125147Z
DESCRIPTION:Klicken Sie auf den folgenden Link\, um weitere Informationen z
 ur Veranstaltung zu erhalten:\nhttp://www.rubigen.swiss/de/veranstaltungen
 /detail/detail.php?i=215
DTSTART:20260621T150000
DTEND:20260621T180000
LOCATION:Schlossgutplatz Münsingen
SUMMARY:Fête de la musique / Tag der Musik
END:VEVENT
END:VCALENDAR
